BEGIN:VCALENDAR
VERSION:2.0
PRODID:-//Endorso//Watch Free Events//EN
CALSCALE:GREGORIAN
METHOD:PUBLISH
BEGIN:VEVENT
UID:europa-league-quarter-final-second-leg-2026-04-23@endorso.com
DTSTAMP:20260421T192422Z
DTSTART:20260423T190000Z
DTEND:20260423T210000Z
SUMMARY:UEFA Europa League Quarter-Final Second Leg (Watch Free with VPN)
DESCRIPTION:Teams fight for a place in the final four of Europe's secondary club competition. A night of high-octane continental football.\\n\\nFree on ServusTV (Austria).\\n\\nFull guide: https://endorso.com/vpn/watch/europa-league-quarter-final-second-leg-2026-04-23
URL:https://endorso.com/vpn/watch/europa-league-quarter-final-second-leg-2026-04-23
LOCATION:https://endorso.com/vpn/watch/europa-league-quarter-final-second-leg-2026-04-23
END:VEVENT
END:VCALENDAR