BEGIN:VCALENDAR
VERSION:2.0
PRODID:-//Endorso//Watch Free Events//EN
CALSCALE:GREGORIAN
METHOD:PUBLISH
BEGIN:VEVENT
UID:europa-league-liverpool-vs-roma-2026-04-30@endorso.com
DTSTAMP:20260425T104627Z
DTSTART:20260430T190000Z
DTEND:20260430T210000Z
SUMMARY:Liverpool vs Roma — Europa League (Watch Free with VPN)
DESCRIPTION:A heavyweight Europa League semi-final clash at Anfield. Both teams are desperate for European silverware to cap off their domestic seasons.\\n\\nFree on ServusTV (Austria).\\n\\nFull guide: https://endorso.com/vpn/watch/europa-league-liverpool-vs-roma-2026-04-30
URL:https://endorso.com/vpn/watch/europa-league-liverpool-vs-roma-2026-04-30
LOCATION:https://endorso.com/vpn/watch/europa-league-liverpool-vs-roma-2026-04-30
END:VEVENT
END:VCALENDAR