BEGIN:VCALENDAR
VERSION:2.0
PRODID:-//Endorso//Watch Free Events//EN
CALSCALE:GREGORIAN
METHOD:PUBLISH
BEGIN:VEVENT
UID:europa-conference-league-semi-final-leg-1-2026-04-30@endorso.com
DTSTAMP:20260420T111709Z
DTSTART:20260430T190000Z
DTEND:20260430T210000Z
SUMMARY:Europa Conference League - Semi-Final Leg 1 (Watch Free with VPN)
DESCRIPTION:Exciting Europa Conference League semi-final first leg matches. Teams compete for a spot in the final.\\n\\nFree on TRT (Turkey).\\n\\nFull guide: https://endorso.com/vpn/watch/europa-conference-league-semi-final-leg-1-2026-04-30
URL:https://endorso.com/vpn/watch/europa-conference-league-semi-final-leg-1-2026-04-30
LOCATION:https://endorso.com/vpn/watch/europa-conference-league-semi-final-leg-1-2026-04-30
END:VEVENT
END:VCALENDAR