BEGIN:VCALENDAR
VERSION:2.0
PRODID:-//Endorso//Watch Free Events//EN
CALSCALE:GREGORIAN
METHOD:PUBLISH
BEGIN:VEVENT
UID:europa-conference-league-semi-final-2026-05-07@endorso.com
DTSTAMP:20260424T191631Z
DTSTART:20260507T190000Z
DTEND:20260507T210000Z
SUMMARY:TBD vs TBD — Conference League Semi-Final (Watch Free with VPN)
DESCRIPTION:The UEFA Conference League semi-finals offer a path to European glory for emerging clubs. Intense competition as teams eye the final in May.\\n\\nFree on NPO (Netherlands).\\n\\nFull guide: https://endorso.com/vpn/watch/europa-conference-league-semi-final-2026-05-07
URL:https://endorso.com/vpn/watch/europa-conference-league-semi-final-2026-05-07
LOCATION:https://endorso.com/vpn/watch/europa-conference-league-semi-final-2026-05-07
END:VEVENT
END:VCALENDAR