BEGIN:VCALENDAR
VERSION:2.0
PRODID:-//Endorso//Watch Free Events//EN
CALSCALE:GREGORIAN
METHOD:PUBLISH
BEGIN:VEVENT
UID:euroleague-playoffs-real-madrid-vs-panathinaikos-game-2-2026-04-28@endorso.com
DTSTAMP:20260425T204718Z
DTSTART:20260428T184500Z
DTEND:20260428T204500Z
SUMMARY:Real Madrid vs Panathinaikos — EuroLeague Playoffs G2 (Watch Free with VPN)
DESCRIPTION:Game 2 of the EuroLeague Quarter-finals. Real Madrid looks to maintain home-court advantage against the Greek giants in this high-intensity European matchup.\\n\\nFree on TRT Spor (Turkey).\\n\\nFull guide: https://endorso.com/vpn/watch/euroleague-playoffs-real-madrid-vs-panathinaikos-game-2-2026-04-28
URL:https://endorso.com/vpn/watch/euroleague-playoffs-real-madrid-vs-panathinaikos-game-2-2026-04-28
LOCATION:https://endorso.com/vpn/watch/euroleague-playoffs-real-madrid-vs-panathinaikos-game-2-2026-04-28
END:VEVENT
END:VCALENDAR