BEGIN:VCALENDAR
VERSION:2.0
PRODID:-//Endorso//Watch Free Events//EN
CALSCALE:GREGORIAN
METHOD:PUBLISH
BEGIN:VEVENT
UID:euroleague-playoffs-real-madrid-vs-panathinaikos-game-1-2026-04-21@endorso.com
DTSTAMP:20260421T194447Z
DTSTART:20260421T184500Z
DTEND:20260421T204500Z
SUMMARY:Real Madrid vs Panathinaikos — EuroLeague Playoffs G1 (Watch Free with VPN)
DESCRIPTION:The EuroLeague post-season kicks off with a heavyweight battle between the Spanish giants and the Greek powerhouse. Every possession counts in this best-of-five series.\\n\\nFree on ERT (Greece).\\n\\nFull guide: https://endorso.com/vpn/watch/euroleague-playoffs-real-madrid-vs-panathinaikos-game-1-2026-04-21
URL:https://endorso.com/vpn/watch/euroleague-playoffs-real-madrid-vs-panathinaikos-game-1-2026-04-21
LOCATION:https://endorso.com/vpn/watch/euroleague-playoffs-real-madrid-vs-panathinaikos-game-1-2026-04-21
END:VEVENT
END:VCALENDAR