BEGIN:VCALENDAR
VERSION:2.0
PRODID:-//Endorso//Watch Free Events//EN
CALSCALE:GREGORIAN
METHOD:PUBLISH
BEGIN:VEVENT
UID:euroleague-playoffs-real-madrid-vs-panathinaikos-2026-04-28@endorso.com
DTSTAMP:20260425T145445Z
DTSTART:20260428T184500Z
DTEND:20260428T204500Z
SUMMARY:Real Madrid vs Panathinaikos — EuroLeague Playoffs Game 3 (Watch Free with VPN)
DESCRIPTION:The EuroLeague post-season heats up in Madrid. Panathinaikos looks to steal a road win against the defending champions in this high-intensity European basketball matchup.\\n\\nFree on TRT Spor (Turkey).\\n\\nFull guide: https://endorso.com/vpn/watch/euroleague-playoffs-real-madrid-vs-panathinaikos-2026-04-28
URL:https://endorso.com/vpn/watch/euroleague-playoffs-real-madrid-vs-panathinaikos-2026-04-28
LOCATION:https://endorso.com/vpn/watch/euroleague-playoffs-real-madrid-vs-panathinaikos-2026-04-28
END:VEVENT
END:VCALENDAR