BEGIN:VCALENDAR
VERSION:2.0
PRODID:-//Endorso//Watch Free Events//EN
CALSCALE:GREGORIAN
METHOD:PUBLISH
BEGIN:VEVENT
UID:euroleague-playoffs-real-madrid-vs-monaco-game-2@endorso.com
DTSTAMP:20260425T024455Z
DTSTART:20260424T184500Z
DTEND:20260424T204500Z
SUMMARY:Real Madrid vs AS Monaco — EuroLeague Playoffs G2 (Watch Free with VPN)
DESCRIPTION:The defending champions look to protect home court in this best-of-five series. EuroLeague basketball offers the highest level of play outside the NBA.\\n\\nFree on ERT FLIX (Greece).\\n\\nFull guide: https://endorso.com/vpn/watch/euroleague-playoffs-real-madrid-vs-monaco-game-2
URL:https://endorso.com/vpn/watch/euroleague-playoffs-real-madrid-vs-monaco-game-2
LOCATION:https://endorso.com/vpn/watch/euroleague-playoffs-real-madrid-vs-monaco-game-2
END:VEVENT
END:VCALENDAR