BEGIN:VCALENDAR
VERSION:2.0
PRODID:-//Endorso//Watch Free Events//EN
CALSCALE:GREGORIAN
METHOD:PUBLISH
BEGIN:VEVENT
UID:euroleague-playoffs-real-madrid-vs-monaco-2026-04-28@endorso.com
DTSTAMP:20260424T183512Z
DTSTART:20260428T184500Z
DTEND:20260428T204500Z
SUMMARY:Real Madrid vs AS Monaco — EuroLeague Playoffs (Watch Free with VPN)
DESCRIPTION:Game 3 of the EuroLeague Quarter-finals. Real Madrid looks to use their home-court advantage at the WiZink Center to move closer to the Final Four.\\n\\nFree on RAI Play (Italy).\\n\\nFull guide: https://endorso.com/vpn/watch/euroleague-playoffs-real-madrid-vs-monaco-2026-04-28
URL:https://endorso.com/vpn/watch/euroleague-playoffs-real-madrid-vs-monaco-2026-04-28
LOCATION:https://endorso.com/vpn/watch/euroleague-playoffs-real-madrid-vs-monaco-2026-04-28
END:VEVENT
END:VCALENDAR