BEGIN:VCALENDAR
VERSION:2.0
PRODID:-//Endorso//Watch Free Events//EN
CALSCALE:GREGORIAN
METHOD:PUBLISH
BEGIN:VEVENT
UID:euroleague-playoffs-real-madrid-vs-monaco-2026-04-24@endorso.com
DTSTAMP:20260422T163342Z
DTSTART:20260424T184500Z
DTEND:20260424T204500Z
SUMMARY:Real Madrid vs AS Monaco — EuroLeague Playoffs Game 2 (Watch Free with VPN)
DESCRIPTION:The defending champions Real Madrid face a dangerous Monaco side in the second game of the best-of-five quarterfinal series.\\n\\nFree on ERT FLIX (Greece).\\n\\nFull guide: https://endorso.com/vpn/watch/euroleague-playoffs-real-madrid-vs-monaco-2026-04-24
URL:https://endorso.com/vpn/watch/euroleague-playoffs-real-madrid-vs-monaco-2026-04-24
LOCATION:https://endorso.com/vpn/watch/euroleague-playoffs-real-madrid-vs-monaco-2026-04-24
END:VEVENT
END:VCALENDAR