BEGIN:VCALENDAR
VERSION:2.0
PRODID:-//Endorso//Watch Free Events//EN
CALSCALE:GREGORIAN
METHOD:PUBLISH
BEGIN:VEVENT
UID:euroleague-playoffs-real-madrid-vs-fenerbahce-game-2-2026-04-23@endorso.com
DTSTAMP:20260422T045839Z
DTSTART:20260423T184500Z
DTEND:20260423T204500Z
SUMMARY:Real Madrid vs Fenerbahçe — EuroLeague Playoffs Game 2 (Watch Free with VPN)
DESCRIPTION:Defending champions Real Madrid host Turkish giants Fenerbahçe in a crucial Game 2 of the EuroLeague Quarter-finals. A must-win for the visitors to avoid a 0-2 deficit.\\n\\nFree on TRT Spor Yıldız (Turkey).\\n\\nFull guide: https://endorso.com/vpn/watch/euroleague-playoffs-real-madrid-vs-fenerbahce-game-2-2026-04-23
URL:https://endorso.com/vpn/watch/euroleague-playoffs-real-madrid-vs-fenerbahce-game-2-2026-04-23
LOCATION:https://endorso.com/vpn/watch/euroleague-playoffs-real-madrid-vs-fenerbahce-game-2-2026-04-23
END:VEVENT
END:VCALENDAR