BEGIN:VCALENDAR
VERSION:2.0
PRODID:-//Endorso//Watch Free Events//EN
CALSCALE:GREGORIAN
METHOD:PUBLISH
BEGIN:VEVENT
UID:euroleague-playoffs-quarterfinal-real-madrid-vs-monaco-2026-04-28@endorso.com
DTSTAMP:20260425T154911Z
DTSTART:20260428T184500Z
DTEND:20260428T204500Z
SUMMARY:Real Madrid vs AS Monaco — EuroLeague Playoffs QF Game 1 (Watch Free with VPN)
DESCRIPTION:The EuroLeague post-season begins with the defending champions hosting a dangerous Monaco side in a best-of-five series.\\n\\nFree on TRT Spor (Turkey).\\n\\nFull guide: https://endorso.com/vpn/watch/euroleague-playoffs-quarterfinal-real-madrid-vs-monaco-2026-04-28
URL:https://endorso.com/vpn/watch/euroleague-playoffs-quarterfinal-real-madrid-vs-monaco-2026-04-28
LOCATION:https://endorso.com/vpn/watch/euroleague-playoffs-quarterfinal-real-madrid-vs-monaco-2026-04-28
END:VEVENT
END:VCALENDAR