BEGIN:VCALENDAR
VERSION:2.0
PRODID:-//Endorso//Watch Free Events//EN
CALSCALE:GREGORIAN
METHOD:PUBLISH
BEGIN:VEVENT
UID:euroleague-playoffs-quarterfinal-game-2-real-madrid-vs-monaco-2026-04-24@endorso.com
DTSTAMP:20260422T105631Z
DTSTART:20260424T184500Z
DTEND:20260424T204500Z
SUMMARY:Real Madrid vs AS Monaco — EuroLeague Playoffs QF G2 (Watch Free with VPN)
DESCRIPTION:Real Madrid looks to defend home court in Game 2 of the EuroLeague Quarterfinals. Monaco aims for a crucial road split to take control of the series.\\n\\nFree on ERT Sports (Greece).\\n\\nFull guide: https://endorso.com/vpn/watch/euroleague-playoffs-quarterfinal-game-2-real-madrid-vs-monaco-2026-04-24
URL:https://endorso.com/vpn/watch/euroleague-playoffs-quarterfinal-game-2-real-madrid-vs-monaco-2026-04-24
LOCATION:https://endorso.com/vpn/watch/euroleague-playoffs-quarterfinal-game-2-real-madrid-vs-monaco-2026-04-24
END:VEVENT
END:VCALENDAR