BEGIN:VCALENDAR
VERSION:2.0
PRODID:-//Endorso//Watch Free Events//EN
CALSCALE:GREGORIAN
METHOD:PUBLISH
BEGIN:VEVENT
UID:euroleague-playoffs-panathinaikos-vs-maccabi-tel-aviv-game-3@endorso.com
DTSTAMP:20260425T024911Z
DTSTART:20260428T181500Z
DTEND:20260428T201500Z
SUMMARY:Panathinaikos vs Maccabi Tel Aviv — EuroLeague Playoffs G3 (Watch Free with VPN)
DESCRIPTION:The series shifts to a neutral venue or Tel Aviv. One of the most storied matchups in European basketball history.\\n\\nFree on ERT 3 (Greece).\\n\\nFull guide: https://endorso.com/vpn/watch/euroleague-playoffs-panathinaikos-vs-maccabi-tel-aviv-game-3
URL:https://endorso.com/vpn/watch/euroleague-playoffs-panathinaikos-vs-maccabi-tel-aviv-game-3
LOCATION:https://endorso.com/vpn/watch/euroleague-playoffs-panathinaikos-vs-maccabi-tel-aviv-game-3
END:VEVENT
END:VCALENDAR