BEGIN:VCALENDAR
VERSION:2.0
PRODID:-//Endorso//Watch Free Events//EN
CALSCALE:GREGORIAN
METHOD:PUBLISH
BEGIN:VEVENT
UID:euroleague-playoffs-panathinaikos-vs-maccabi-tel-aviv-game-3-2026-04-30@endorso.com
DTSTAMP:20260424T192244Z
DTSTART:20260430T181500Z
DTEND:20260430T201500Z
SUMMARY:Panathinaikos vs Maccabi Tel Aviv — EuroLeague Playoffs Game 3 (Watch Free with VPN)
DESCRIPTION:The OAKA Arena will be electric as Panathinaikos looks to use their home advantage in this historic European basketball rivalry.\\n\\nFree on ERT Sports (Greece).\\n\\nFull guide: https://endorso.com/vpn/watch/euroleague-playoffs-panathinaikos-vs-maccabi-tel-aviv-game-3-2026-04-30
URL:https://endorso.com/vpn/watch/euroleague-playoffs-panathinaikos-vs-maccabi-tel-aviv-game-3-2026-04-30
LOCATION:https://endorso.com/vpn/watch/euroleague-playoffs-panathinaikos-vs-maccabi-tel-aviv-game-3-2026-04-30
END:VEVENT
END:VCALENDAR