BEGIN:VCALENDAR
VERSION:2.0
PRODID:-//Endorso//Watch Free Events//EN
CALSCALE:GREGORIAN
METHOD:PUBLISH
BEGIN:VEVENT
UID:euroleague-playoffs-game-5-fc-barcelona-vs-olympiacos-2026-05-05@endorso.com
DTSTAMP:20260421T044312Z
DTSTART:20260505T190000Z
DTEND:20260505T210000Z
SUMMARY:FC Barcelona vs Olympiacos — EuroLeague Playoffs Game 5 (Watch Free with VPN)
DESCRIPTION:FC Barcelona hosts Olympiacos in Game 5 of the EuroLeague Playoffs. This is a decisive game as both teams battle for a spot in the Final Four. Basketball fans will be searching for live streams to watch this high-stakes match.\\n\\nFree on TRT (Turkey).\\n\\nFull guide: https://endorso.com/vpn/watch/euroleague-playoffs-game-5-fc-barcelona-vs-olympiacos-2026-05-05
URL:https://endorso.com/vpn/watch/euroleague-playoffs-game-5-fc-barcelona-vs-olympiacos-2026-05-05
LOCATION:https://endorso.com/vpn/watch/euroleague-playoffs-game-5-fc-barcelona-vs-olympiacos-2026-05-05
END:VEVENT
END:VCALENDAR