BEGIN:VCALENDAR
VERSION:2.0
PRODID:-//Endorso//Watch Free Events//EN
CALSCALE:GREGORIAN
METHOD:PUBLISH
BEGIN:VEVENT
UID:euroleague-playoffs-game-3-real-madrid-vs-panathinaikos-2026-04-28@endorso.com
DTSTAMP:20260421T044528Z
DTSTART:20260428T190000Z
DTEND:20260428T210000Z
SUMMARY:Real Madrid vs Panathinaikos — EuroLeague Playoffs Game 3 (Watch Free with VPN)
DESCRIPTION:Real Madrid hosts Panathinaikos in Game 3 of the EuroLeague Playoffs. This is a crucial game as both teams battle for a spot in the Final Four. Basketball fans will be searching for live streams to watch this high-stakes match.\\n\\nFree on TRT (Turkey).\\n\\nFull guide: https://endorso.com/vpn/watch/euroleague-playoffs-game-3-real-madrid-vs-panathinaikos-2026-04-28
URL:https://endorso.com/vpn/watch/euroleague-playoffs-game-3-real-madrid-vs-panathinaikos-2026-04-28
LOCATION:https://endorso.com/vpn/watch/euroleague-playoffs-game-3-real-madrid-vs-panathinaikos-2026-04-28
END:VEVENT
END:VCALENDAR