BEGIN:VCALENDAR
VERSION:2.0
PRODID:-//Endorso//Watch Free Events//EN
CALSCALE:GREGORIAN
METHOD:PUBLISH
BEGIN:VEVENT
UID:euroleague-playoffs-game-1-fc-barcelona-vs-olympiacos-2026-04-29@endorso.com
DTSTAMP:20260419T200539Z
DTSTART:20260429T190000Z
DTEND:20260429T210000Z
SUMMARY:FC Barcelona vs Olympiacos — EuroLeague Playoffs Game 1 (Watch Free with VPN)
DESCRIPTION:FC Barcelona hosts Olympiacos in Game 1 of the EuroLeague Playoffs. This is a crucial game as both teams look to gain an early advantage in the series.\\n\\nFree on ERT (Greece).\\n\\nFull guide: https://endorso.com/vpn/watch/euroleague-playoffs-game-1-fc-barcelona-vs-olympiacos-2026-04-29
URL:https://endorso.com/vpn/watch/euroleague-playoffs-game-1-fc-barcelona-vs-olympiacos-2026-04-29
LOCATION:https://endorso.com/vpn/watch/euroleague-playoffs-game-1-fc-barcelona-vs-olympiacos-2026-04-29
END:VEVENT
END:VCALENDAR