BEGIN:VCALENDAR
VERSION:2.0
PRODID:-//Endorso//Watch Free Events//EN
CALSCALE:GREGORIAN
METHOD:PUBLISH
BEGIN:VEVENT
UID:copa-sudamericana-group-stage-sao-paulo-vs-lsu-quito-2026-04-22@endorso.com
DTSTAMP:20260420T112037Z
DTSTART:20260422T000000Z
DTEND:20260422T020000Z
SUMMARY:São Paulo vs LDU Quito — Copa Sudamericana Group Stage (Watch Free with VPN)
DESCRIPTION:São Paulo takes on LDU Quito in a crucial Copa Sudamericana group stage match. Both teams need a win to boost their chances of advancing.\\n\\nFree on TV Globo (Brazil).\\n\\nFull guide: https://endorso.com/vpn/watch/copa-sudamericana-group-stage-sao-paulo-vs-lsu-quito-2026-04-22
URL:https://endorso.com/vpn/watch/copa-sudamericana-group-stage-sao-paulo-vs-lsu-quito-2026-04-22
LOCATION:https://endorso.com/vpn/watch/copa-sudamericana-group-stage-sao-paulo-vs-lsu-quito-2026-04-22
END:VEVENT
END:VCALENDAR