BEGIN:VCALENDAR
VERSION:2.0
PRODID:-//Endorso//Watch Free Events//EN
CALSCALE:GREGORIAN
METHOD:PUBLISH
BEGIN:VEVENT
UID:copa-sudamericana-group-stage-racing-club-vs-corinthians-2026-04-29@endorso.com
DTSTAMP:20260420T112128Z
DTSTART:20260429T000000Z
DTEND:20260429T020000Z
SUMMARY:Racing Club vs Corinthians — Copa Sudamericana Group Stage (Watch Free with VPN)
DESCRIPTION:Racing Club takes on Corinthians in a crucial Copa Sudamericana group stage match. Both teams need a win to boost their chances of advancing.\\n\\nFree on TV Publica (Argentina).\\n\\nFull guide: https://endorso.com/vpn/watch/copa-sudamericana-group-stage-racing-club-vs-corinthians-2026-04-29
URL:https://endorso.com/vpn/watch/copa-sudamericana-group-stage-racing-club-vs-corinthians-2026-04-29
LOCATION:https://endorso.com/vpn/watch/copa-sudamericana-group-stage-racing-club-vs-corinthians-2026-04-29
END:VEVENT
END:VCALENDAR