BEGIN:VCALENDAR
VERSION:2.0
PRODID:-//Endorso//Watch Free Events//EN
CALSCALE:GREGORIAN
METHOD:PUBLISH
BEGIN:VEVENT
UID:copa-sudamericana-group-stage-boca-juniors-vs-internacional-2026-04-29@endorso.com
DTSTAMP:20260419T195515Z
DTSTART:20260429T010000Z
DTEND:20260429T030000Z
SUMMARY:Boca Juniors vs Internacional — Copa Sudamericana Group Stage (Watch Free with VPN)
DESCRIPTION:Copa Sudamericana group stage match between Boca Juniors and Internacional. Both teams are aiming for a crucial win to enhance their chances of advancing to the next round of the competition.\\n\\nFree on TV Publica (Argentina).\\n\\nFull guide: https://endorso.com/vpn/watch/copa-sudamericana-group-stage-boca-juniors-vs-internacional-2026-04-29
URL:https://endorso.com/vpn/watch/copa-sudamericana-group-stage-boca-juniors-vs-internacional-2026-04-29
LOCATION:https://endorso.com/vpn/watch/copa-sudamericana-group-stage-boca-juniors-vs-internacional-2026-04-29
END:VEVENT
END:VCALENDAR