BEGIN:VCALENDAR
VERSION:2.0
PRODID:-//Endorso//Watch Free Events//EN
CALSCALE:GREGORIAN
METHOD:PUBLISH
BEGIN:VEVENT
UID:copa-sudamericana-group-stage-atletico-nacional-vs-sao-paulo-2026-04-22@endorso.com
DTSTAMP:20260419T172151Z
DTSTART:20260422T010000Z
DTEND:20260422T030000Z
SUMMARY:Atlético Nacional vs São Paulo — Copa Sudamericana Group Stage (Watch Free with VPN)
DESCRIPTION:Copa Sudamericana group stage match between Atlético Nacional and São Paulo. Both teams are aiming for a crucial win to enhance their chances of advancing to the next round of the competition.\\n\\nFree on TV Publica (Argentina).\\n\\nFull guide: https://endorso.com/vpn/watch/copa-sudamericana-group-stage-atletico-nacional-vs-sao-paulo-2026-04-22
URL:https://endorso.com/vpn/watch/copa-sudamericana-group-stage-atletico-nacional-vs-sao-paulo-2026-04-22
LOCATION:https://endorso.com/vpn/watch/copa-sudamericana-group-stage-atletico-nacional-vs-sao-paulo-2026-04-22
END:VEVENT
END:VCALENDAR