BEGIN:VCALENDAR
VERSION:2.0
PRODID:-//Endorso//Watch Free Events//EN
CALSCALE:GREGORIAN
METHOD:PUBLISH
BEGIN:VEVENT
UID:copa-sudamericana-corinthians-vs-racing-club-2026-04-30@endorso.com
DTSTAMP:20260425T160241Z
DTSTART:20260430T003000Z
DTEND:20260430T023000Z
SUMMARY:Corinthians vs Racing Club — Copa Sudamericana (Watch Free with VPN)
DESCRIPTION:A massive cross-border rivalry match in the Sudamericana group stage. Corinthians seek to dominate at home against the physical Argentine side.\\n\\nFree on SBT (Brazil).\\n\\nFull guide: https://endorso.com/vpn/watch/copa-sudamericana-corinthians-vs-racing-club-2026-04-30
URL:https://endorso.com/vpn/watch/copa-sudamericana-corinthians-vs-racing-club-2026-04-30
LOCATION:https://endorso.com/vpn/watch/copa-sudamericana-corinthians-vs-racing-club-2026-04-30
END:VEVENT
END:VCALENDAR