BEGIN:VCALENDAR
VERSION:2.0
PRODID:-//Endorso//Watch Free Events//EN
CALSCALE:GREGORIAN
METHOD:PUBLISH
BEGIN:VEVENT
UID:copa-sudamericana-boca-juniors-vs-fortaleza-2026-05-07@endorso.com
DTSTAMP:20260425T143746Z
DTSTART:20260507T000000Z
DTEND:20260507T020000Z
SUMMARY:Boca Juniors vs Fortaleza — Copa Sudamericana (Watch Free with VPN)
DESCRIPTION:Boca Juniors welcomes Brazilian side Fortaleza to La Bombonera. A crucial match for top spot in the group and direct qualification to the knockouts.\\n\\nFree on DSports (via Pluto TV) (Argentina).\\n\\nFull guide: https://endorso.com/vpn/watch/copa-sudamericana-boca-juniors-vs-fortaleza-2026-05-07
URL:https://endorso.com/vpn/watch/copa-sudamericana-boca-juniors-vs-fortaleza-2026-05-07
LOCATION:https://endorso.com/vpn/watch/copa-sudamericana-boca-juniors-vs-fortaleza-2026-05-07
END:VEVENT
END:VCALENDAR