BEGIN:VCALENDAR
VERSION:2.0
PRODID:-//Endorso//Watch Free Events//EN
CALSCALE:GREGORIAN
METHOD:PUBLISH
BEGIN:VEVENT
UID:copa-sudamericana-boca-juniors-vs-fortaleza-2026-05-06@endorso.com
DTSTAMP:20260424T182500Z
DTSTART:20260506T003000Z
DTEND:20260506T023000Z
SUMMARY:Boca Juniors vs Fortaleza — Copa Sudamericana (Watch Free with VPN)
DESCRIPTION:Boca Juniors look to assert dominance at La Bombonera against a rising Fortaleza side in this high-stakes continental clash.\\n\\nFree on SBT (Brazil).\\n\\nFull guide: https://endorso.com/vpn/watch/copa-sudamericana-boca-juniors-vs-fortaleza-2026-05-06
URL:https://endorso.com/vpn/watch/copa-sudamericana-boca-juniors-vs-fortaleza-2026-05-06
LOCATION:https://endorso.com/vpn/watch/copa-sudamericana-boca-juniors-vs-fortaleza-2026-05-06
END:VEVENT
END:VCALENDAR