BEGIN:VCALENDAR
VERSION:2.0
PRODID:-//Endorso//Watch Free Events//EN
CALSCALE:GREGORIAN
METHOD:PUBLISH
BEGIN:VEVENT
UID:copa-sudamericana-boca-juniors-vs-fortaleza-2026-04-29@endorso.com
DTSTAMP:20260421T192922Z
DTSTART:20260429T233000Z
DTEND:20260430T013000Z
SUMMARY:Boca Juniors vs Fortaleza — Copa Sudamericana (Watch Free with VPN)
DESCRIPTION:Boca Juniors hosts Brazilian side Fortaleza at La Bombonera. A vital match for Boca to secure their path to the knockout stages.\\n\\nFree on TV Pública (Argentina).\\n\\nFull guide: https://endorso.com/vpn/watch/copa-sudamericana-boca-juniors-vs-fortaleza-2026-04-29
URL:https://endorso.com/vpn/watch/copa-sudamericana-boca-juniors-vs-fortaleza-2026-04-29
LOCATION:https://endorso.com/vpn/watch/copa-sudamericana-boca-juniors-vs-fortaleza-2026-04-29
END:VEVENT
END:VCALENDAR