BEGIN:VCALENDAR
VERSION:2.0
PRODID:-//Endorso//Watch Free Events//EN
CALSCALE:GREGORIAN
METHOD:PUBLISH
BEGIN:VEVENT
UID:copa-sudamericana-boca-juniors-vs-fortaleza-2026-04-23@endorso.com
DTSTAMP:20260422T045354Z
DTSTART:20260424T000000Z
DTEND:20260424T020000Z
SUMMARY:Boca Juniors vs Fortaleza — Copa Sudamericana (Watch Free with VPN)
DESCRIPTION:The Bombonera hosts this vital Group Stage match. Boca Juniors aims to secure the top spot against a resilient Brazilian Fortaleza side.\\n\\nFree on TV Publica (Argentina).\\n\\nFull guide: https://endorso.com/vpn/watch/copa-sudamericana-boca-juniors-vs-fortaleza-2026-04-23
URL:https://endorso.com/vpn/watch/copa-sudamericana-boca-juniors-vs-fortaleza-2026-04-23
LOCATION:https://endorso.com/vpn/watch/copa-sudamericana-boca-juniors-vs-fortaleza-2026-04-23
END:VEVENT
END:VCALENDAR