BEGIN:VCALENDAR
VERSION:2.0
PRODID:-//Endorso//Watch Free Events//EN
CALSCALE:GREGORIAN
METHOD:PUBLISH
BEGIN:VEVENT
UID:copa-libertadores-sao-paulo-vs-nacional-2026-05-07@endorso.com
DTSTAMP:20260425T030446Z
DTSTART:20260507T220000Z
DTEND:20260508T000000Z
SUMMARY:São Paulo vs Nacional — Copa Libertadores (Watch Free with VPN)
DESCRIPTION:A traditional South American battle between three-time winners. São Paulo looks to secure their place in the knockout rounds.\\n\\nFree on TV Globo (Brazil).\\n\\nFull guide: https://endorso.com/vpn/watch/copa-libertadores-sao-paulo-vs-nacional-2026-05-07
URL:https://endorso.com/vpn/watch/copa-libertadores-sao-paulo-vs-nacional-2026-05-07
LOCATION:https://endorso.com/vpn/watch/copa-libertadores-sao-paulo-vs-nacional-2026-05-07
END:VEVENT
END:VCALENDAR