BEGIN:VCALENDAR
VERSION:2.0
PRODID:-//Endorso//Watch Free Events//EN
CALSCALE:GREGORIAN
METHOD:PUBLISH
BEGIN:VEVENT
UID:copa-libertadores-sao-paulo-vs-nacional-2026-05-06@endorso.com
DTSTAMP:20260424T191711Z
DTSTART:20260506T003000Z
DTEND:20260506T023000Z
SUMMARY:São Paulo vs Nacional — Copa Libertadores Group Stage (Watch Free with VPN)
DESCRIPTION:A historic clash between two three-time champions. São Paulo hosts the Uruguayan giants in a battle for Group Stage supremacy.\\n\\nFree on TV Globo (Brazil).\\n\\nFull guide: https://endorso.com/vpn/watch/copa-libertadores-sao-paulo-vs-nacional-2026-05-06
URL:https://endorso.com/vpn/watch/copa-libertadores-sao-paulo-vs-nacional-2026-05-06
LOCATION:https://endorso.com/vpn/watch/copa-libertadores-sao-paulo-vs-nacional-2026-05-06
END:VEVENT
END:VCALENDAR