BEGIN:VCALENDAR
VERSION:2.0
PRODID:-//Endorso//Watch Free Events//EN
CALSCALE:GREGORIAN
METHOD:PUBLISH
BEGIN:VEVENT
UID:copa-libertadores-river-plate-vs-colo-colo-2026-05-06@endorso.com
DTSTAMP:20260422T163213Z
DTSTART:20260506T220000Z
DTEND:20260507T000000Z
SUMMARY:River Plate vs Colo-Colo — Copa Libertadores (Watch Free with VPN)
DESCRIPTION:River Plate hosts the Chilean champions at the Monumental. A win for River would likely guarantee their spot in the Round of 16.\\n\\nFree on Telefe (Argentina).\\n\\nFull guide: https://endorso.com/vpn/watch/copa-libertadores-river-plate-vs-colo-colo-2026-05-06
URL:https://endorso.com/vpn/watch/copa-libertadores-river-plate-vs-colo-colo-2026-05-06
LOCATION:https://endorso.com/vpn/watch/copa-libertadores-river-plate-vs-colo-colo-2026-05-06
END:VEVENT
END:VCALENDAR