BEGIN:VCALENDAR
VERSION:2.0
PRODID:-//Endorso//Watch Free Events//EN
CALSCALE:GREGORIAN
METHOD:PUBLISH
BEGIN:VEVENT
UID:copa-libertadores-river-plate-vs-colo-colo-2026-05-05@endorso.com
DTSTAMP:20260422T045056Z
DTSTART:20260505T230000Z
DTEND:20260506T010000Z
SUMMARY:River Plate vs Colo-Colo — Copa Libertadores (Watch Free with VPN)
DESCRIPTION:River Plate looks to secure their place in the knockout stages at the Monumental. The Chilean champions Colo-Colo provide a stern test.\\n\\nFree on Telefe (Argentina).\\n\\nFull guide: https://endorso.com/vpn/watch/copa-libertadores-river-plate-vs-colo-colo-2026-05-05
URL:https://endorso.com/vpn/watch/copa-libertadores-river-plate-vs-colo-colo-2026-05-05
LOCATION:https://endorso.com/vpn/watch/copa-libertadores-river-plate-vs-colo-colo-2026-05-05
END:VEVENT
END:VCALENDAR