BEGIN:VCALENDAR
VERSION:2.0
PRODID:-//Endorso//Watch Free Events//EN
CALSCALE:GREGORIAN
METHOD:PUBLISH
BEGIN:VEVENT
UID:copa-libertadores-river-plate-vs-colo-colo-2026-04-28@endorso.com
DTSTAMP:20260424T182005Z
DTSTART:20260428T220000Z
DTEND:20260429T000000Z
SUMMARY:River Plate vs Colo-Colo — Copa Libertadores Group Stage (Watch Free with VPN)
DESCRIPTION:Matchday 4 of the group stage. River Plate looks to secure their spot in the knockout rounds against the Chilean giants.\\n\\nFree on TV Pública (Argentina).\\n\\nFull guide: https://endorso.com/vpn/watch/copa-libertadores-river-plate-vs-colo-colo-2026-04-28
URL:https://endorso.com/vpn/watch/copa-libertadores-river-plate-vs-colo-colo-2026-04-28
LOCATION:https://endorso.com/vpn/watch/copa-libertadores-river-plate-vs-colo-colo-2026-04-28
END:VEVENT
END:VCALENDAR