BEGIN:VCALENDAR
VERSION:2.0
PRODID:-//Endorso//Watch Free Events//EN
CALSCALE:GREGORIAN
METHOD:PUBLISH
BEGIN:VEVENT
UID:copa-libertadores-group-stage-palmeiras-vs-penarol-2026-04-28@endorso.com
DTSTAMP:20260419T195806Z
DTSTART:20260428T230000Z
DTEND:20260429T010000Z
SUMMARY:Palmeiras vs Peñarol — Copa Libertadores Group Stage (Watch Free with VPN)
DESCRIPTION:Copa Libertadores group stage match between Palmeiras and Peñarol. A high-stakes match as both teams vie for the top spot in their group to secure a favorable position in the knockout stages.\\n\\nFree on TV Publica (Argentina).\\n\\nFull guide: https://endorso.com/vpn/watch/copa-libertadores-group-stage-palmeiras-vs-penarol-2026-04-28
URL:https://endorso.com/vpn/watch/copa-libertadores-group-stage-palmeiras-vs-penarol-2026-04-28
LOCATION:https://endorso.com/vpn/watch/copa-libertadores-group-stage-palmeiras-vs-penarol-2026-04-28
END:VEVENT
END:VCALENDAR