BEGIN:VCALENDAR
VERSION:2.0
PRODID:-//Endorso//Watch Free Events//EN
CALSCALE:GREGORIAN
METHOD:PUBLISH
BEGIN:VEVENT
UID:copa-libertadores-group-stage-boca-juniors-vs-palmeiras-2026-04-28@endorso.com
DTSTAMP:20260420T111808Z
DTSTART:20260428T230000Z
DTEND:20260429T010000Z
SUMMARY:Boca Juniors vs Palmeiras — Copa Libertadores Group Stage (Watch Free with VPN)
DESCRIPTION:A South American heavyweight clash in the Copa Libertadores group stage. Boca Juniors hosts Palmeiras in a match that could determine the group winner.\\n\\nFree on TV Publica (Argentina).\\n\\nFull guide: https://endorso.com/vpn/watch/copa-libertadores-group-stage-boca-juniors-vs-palmeiras-2026-04-28
URL:https://endorso.com/vpn/watch/copa-libertadores-group-stage-boca-juniors-vs-palmeiras-2026-04-28
LOCATION:https://endorso.com/vpn/watch/copa-libertadores-group-stage-boca-juniors-vs-palmeiras-2026-04-28
END:VEVENT
END:VCALENDAR