BEGIN:VCALENDAR
VERSION:2.0
PRODID:-//Endorso//Watch Free Events//EN
CALSCALE:GREGORIAN
METHOD:PUBLISH
BEGIN:VEVENT
UID:copa-libertadores-flamengo-vs-penarol-2026-04-24@endorso.com
DTSTAMP:20260425T024825Z
DTSTART:20260424T220000Z
DTEND:20260425T000000Z
SUMMARY:Flamengo vs Peñarol — Copa Libertadores Group Stage (Watch Free with VPN)
DESCRIPTION:A clash of South American giants at the Maracanã. Flamengo looks to dominate the group stage while the Uruguayan side seeks a historic away upset.\\n\\nFree on TV Globo (Brazil).\\n\\nFull guide: https://endorso.com/vpn/watch/copa-libertadores-flamengo-vs-penarol-2026-04-24
URL:https://endorso.com/vpn/watch/copa-libertadores-flamengo-vs-penarol-2026-04-24
LOCATION:https://endorso.com/vpn/watch/copa-libertadores-flamengo-vs-penarol-2026-04-24
END:VEVENT
END:VCALENDAR