BEGIN:VCALENDAR
VERSION:2.0
PRODID:-//Endorso//Watch Free Events//EN
CALSCALE:GREGORIAN
METHOD:PUBLISH
BEGIN:VEVENT
UID:copa-libertadores-flamengo-vs-penarol-2026-04-22@endorso.com
DTSTAMP:20260422T045442Z
DTSTART:20260422T223000Z
DTEND:20260423T003000Z
SUMMARY:Flamengo vs Peñarol — Copa Libertadores Group Stage (Watch Free with VPN)
DESCRIPTION:A clash of South American giants at the Maracanã. Flamengo looks to dominate Group A while the Uruguayan side seeks a historic away upset.\\n\\nFree on TV Globo (Brazil).\\n\\nFull guide: https://endorso.com/vpn/watch/copa-libertadores-flamengo-vs-penarol-2026-04-22
URL:https://endorso.com/vpn/watch/copa-libertadores-flamengo-vs-penarol-2026-04-22
LOCATION:https://endorso.com/vpn/watch/copa-libertadores-flamengo-vs-penarol-2026-04-22
END:VEVENT
END:VCALENDAR