BEGIN:VCALENDAR
VERSION:2.0
PRODID:-//Endorso//Watch Free Events//EN
CALSCALE:GREGORIAN
METHOD:PUBLISH
BEGIN:VEVENT
UID:conference-league-aston-villa-vs-fiorentina-2026-05-07@endorso.com
DTSTAMP:20260425T110923Z
DTSTART:20260507T190000Z
DTEND:20260507T210000Z
SUMMARY:Aston Villa vs Fiorentina — Conference League (Watch Free with VPN)
DESCRIPTION:A high-profile Conference League semi-final. Villa Park hosts the first leg as the English side aims for their first European trophy in decades.\\n\\nFree on TV8 (Italy).\\n\\nFull guide: https://endorso.com/vpn/watch/conference-league-aston-villa-vs-fiorentina-2026-05-07
URL:https://endorso.com/vpn/watch/conference-league-aston-villa-vs-fiorentina-2026-05-07
LOCATION:https://endorso.com/vpn/watch/conference-league-aston-villa-vs-fiorentina-2026-05-07
END:VEVENT
END:VCALENDAR