BEGIN:VCALENDAR
VERSION:2.0
PRODID:-//Endorso//Watch Free Events//EN
CALSCALE:GREGORIAN
METHOD:PUBLISH
BEGIN:VEVENT
UID:champions-league-semi-final-second-leg-match-1-2026-05-05@endorso.com
DTSTAMP:20260421T192541Z
DTSTART:20260505T190000Z
DTEND:20260505T210000Z
SUMMARY:UEFA Champions League Semi-Final Second Leg — Match 1 (Watch Free with VPN)
DESCRIPTION:The first finalist for the 2026 Champions League is decided tonight. A night where legends are made and dreams are realized.\\n\\nFree on ORF (Austria).\\n\\nFull guide: https://endorso.com/vpn/watch/champions-league-semi-final-second-leg-match-1-2026-05-05
URL:https://endorso.com/vpn/watch/champions-league-semi-final-second-leg-match-1-2026-05-05
LOCATION:https://endorso.com/vpn/watch/champions-league-semi-final-second-leg-match-1-2026-05-05
END:VEVENT
END:VCALENDAR