BEGIN:VCALENDAR
VERSION:2.0
PRODID:-//Endorso//Watch Free Events//EN
CALSCALE:GREGORIAN
METHOD:PUBLISH
BEGIN:VEVENT
UID:champions-league-semi-final-leg-2-match-b-2026-05-06@endorso.com
DTSTAMP:20260425T204019Z
DTSTART:20260506T190000Z
DTEND:20260506T210000Z
SUMMARY:Champions League Semi-Final Leg 2 — Champions League (Watch Free with VPN)
DESCRIPTION:The final spots for the Champions League final are decided tonight in this high-pressure second-leg encounter.\\n\\nFree on ZDF (Germany).\\n\\nFull guide: https://endorso.com/vpn/watch/champions-league-semi-final-leg-2-match-b-2026-05-06
URL:https://endorso.com/vpn/watch/champions-league-semi-final-leg-2-match-b-2026-05-06
LOCATION:https://endorso.com/vpn/watch/champions-league-semi-final-leg-2-match-b-2026-05-06
END:VEVENT
END:VCALENDAR