BEGIN:VCALENDAR
VERSION:2.0
PRODID:-//Endorso//Watch Free Events//EN
CALSCALE:GREGORIAN
METHOD:PUBLISH
BEGIN:VEVENT
UID:champions-league-semi-final-leg-2-match-a-2026-05-05@endorso.com
DTSTAMP:20260425T145011Z
DTSTART:20260505T190000Z
DTEND:20260505T210000Z
SUMMARY:TBD vs TBD — Champions League Semi-Final (Watch Free with VPN)
DESCRIPTION:The second leg of the UCL semi-finals. One team will punch their ticket to the final in this do-or-die encounter.\\n\\nFree on ORF (Austria).\\n\\nFull guide: https://endorso.com/vpn/watch/champions-league-semi-final-leg-2-match-a-2026-05-05
URL:https://endorso.com/vpn/watch/champions-league-semi-final-leg-2-match-a-2026-05-05
LOCATION:https://endorso.com/vpn/watch/champions-league-semi-final-leg-2-match-a-2026-05-05
END:VEVENT
END:VCALENDAR