BEGIN:VCALENDAR
VERSION:2.0
PRODID:-//Endorso//Watch Free Events//EN
CALSCALE:GREGORIAN
METHOD:PUBLISH
BEGIN:VEVENT
UID:champions-league-semi-final-leg-2-match-2-2026-05-06@endorso.com
DTSTAMP:20260422T045144Z
DTSTART:20260506T190000Z
DTEND:20260506T210000Z
SUMMARY:UEFA Champions League Semi-Final Leg 2 — Match 2 (Watch Free with VPN)
DESCRIPTION:The final spot in the Champions League final is up for grabs. This second-leg decider will determine who travels to the final showdown.\\n\\nFree on RTÉ Player (Ireland).\\n\\nFull guide: https://endorso.com/vpn/watch/champions-league-semi-final-leg-2-match-2-2026-05-06
URL:https://endorso.com/vpn/watch/champions-league-semi-final-leg-2-match-2-2026-05-06
LOCATION:https://endorso.com/vpn/watch/champions-league-semi-final-leg-2-match-2-2026-05-06
END:VEVENT
END:VCALENDAR