BEGIN:VCALENDAR
VERSION:2.0
PRODID:-//Endorso//Watch Free Events//EN
CALSCALE:GREGORIAN
METHOD:PUBLISH
BEGIN:VEVENT
UID:champions-league-semi-final-leg-2-2026-05-05-2026-05-06@endorso.com
DTSTAMP:20260420T111916Z
DTSTART:20260505T180000Z
DTEND:20260505T200000Z
SUMMARY:Champions League - Semi-Final Leg 2 (Watch Free with VPN)
DESCRIPTION:High-stakes Champions League semi-final second leg matches. The best teams in Europe battle for a place in the final.\\n\\nFree on ZDF (Germany).\\n\\nFull guide: https://endorso.com/vpn/watch/champions-league-semi-final-leg-2-2026-05-05-2026-05-06
URL:https://endorso.com/vpn/watch/champions-league-semi-final-leg-2-2026-05-05-2026-05-06
LOCATION:https://endorso.com/vpn/watch/champions-league-semi-final-leg-2-2026-05-05-2026-05-06
END:VEVENT
END:VCALENDAR