BEGIN:VCALENDAR
VERSION:2.0
PRODID:-//Endorso//Watch Free Events//EN
CALSCALE:GREGORIAN
METHOD:PUBLISH
BEGIN:VEVENT
UID:champions-league-semi-final-leg-1-match-2-2026-04-29@endorso.com
DTSTAMP:20260422T045143Z
DTSTART:20260429T190000Z
DTEND:20260429T210000Z
SUMMARY:UEFA Champions League Semi-Final Leg 1 — Match 2 (Watch Free with VPN)
DESCRIPTION:The second semi-final pairing battles for a crucial first-leg advantage. This match features the elite of European football in a do-or-die atmosphere.\\n\\nFree on RTÉ Player (Ireland).\\n\\nFull guide: https://endorso.com/vpn/watch/champions-league-semi-final-leg-1-match-2-2026-04-29
URL:https://endorso.com/vpn/watch/champions-league-semi-final-leg-1-match-2-2026-04-29
LOCATION:https://endorso.com/vpn/watch/champions-league-semi-final-leg-1-match-2-2026-04-29
END:VEVENT
END:VCALENDAR