BEGIN:VCALENDAR
VERSION:2.0
PRODID:-//Endorso//Watch Free Events//EN
CALSCALE:GREGORIAN
METHOD:PUBLISH
BEGIN:VEVENT
UID:champions-league-semi-final-leg-1-2026-04-28-2026-04-29@endorso.com
DTSTAMP:20260420T111904Z
DTSTART:20260428T180000Z
DTEND:20260428T200000Z
SUMMARY:Champions League - Semi-Final Leg 1 (Watch Free with VPN)
DESCRIPTION:High-stakes Champions League semi-final first leg matches. The best teams in Europe battle for a place in the final.\\n\\nFree on ZDF (Germany).\\n\\nFull guide: https://endorso.com/vpn/watch/champions-league-semi-final-leg-1-2026-04-28-2026-04-29
URL:https://endorso.com/vpn/watch/champions-league-semi-final-leg-1-2026-04-28-2026-04-29
LOCATION:https://endorso.com/vpn/watch/champions-league-semi-final-leg-1-2026-04-28-2026-04-29
END:VEVENT
END:VCALENDAR