BEGIN:VCALENDAR
VERSION:2.0
PRODID:-//Endorso//Watch Free Events//EN
CALSCALE:GREGORIAN
METHOD:PUBLISH
BEGIN:VEVENT
UID:champions-league-semi-final-first-leg-match-2-2026-04-29@endorso.com
DTSTAMP:20260421T192623Z
DTSTART:20260429T190000Z
DTEND:20260429T210000Z
SUMMARY:UEFA Champions League Semi-Final First Leg — Match 2 (Watch Free with VPN)
DESCRIPTION:The second semi-final pairing kicks off. Europe's elite clubs leave everything on the pitch in this crucial first-leg tie.\\n\\nFree on ZDF (Germany).\\n\\nFull guide: https://endorso.com/vpn/watch/champions-league-semi-final-first-leg-match-2-2026-04-29
URL:https://endorso.com/vpn/watch/champions-league-semi-final-first-leg-match-2-2026-04-29
LOCATION:https://endorso.com/vpn/watch/champions-league-semi-final-first-leg-match-2-2026-04-29
END:VEVENT
END:VCALENDAR