BEGIN:VCALENDAR
VERSION:2.0
PRODID:-//Endorso//Watch Free Events//EN
CALSCALE:GREGORIAN
METHOD:PUBLISH
BEGIN:VEVENT
UID:champions-league-semi-final-first-leg-match-1-2026-04-28@endorso.com
DTSTAMP:20260421T192758Z
DTSTART:20260428T190000Z
DTEND:20260428T210000Z
SUMMARY:UEFA Champions League Semi-Final First Leg — Match 1 (Watch Free with VPN)
DESCRIPTION:The final four begin their quest for the trophy. The atmosphere reaches fever pitch as the road to the final nears its end.\\n\\nFree on ORF (Austria).\\n\\nFull guide: https://endorso.com/vpn/watch/champions-league-semi-final-first-leg-match-1-2026-04-28
URL:https://endorso.com/vpn/watch/champions-league-semi-final-first-leg-match-1-2026-04-28
LOCATION:https://endorso.com/vpn/watch/champions-league-semi-final-first-leg-match-1-2026-04-28
END:VEVENT
END:VCALENDAR