BEGIN:VCALENDAR
VERSION:2.0
PRODID:-//Endorso//Watch Free Events//EN
CALSCALE:GREGORIAN
METHOD:PUBLISH
BEGIN:VEVENT
UID:champions-league-quarter-final-second-leg-match-2-2026-04-22@endorso.com
DTSTAMP:20260421T192439Z
DTSTART:20260422T190000Z
DTEND:20260422T210000Z
SUMMARY:UEFA Champions League Quarter-Final Second Leg — Match 2 (Watch Free with VPN)
DESCRIPTION:The final two semi-finalists are decided in this crucial second-leg encounter. Expect intense drama and tactical masterclasses.\\n\\nFree on ZDF (Germany).\\n\\nFull guide: https://endorso.com/vpn/watch/champions-league-quarter-final-second-leg-match-2-2026-04-22
URL:https://endorso.com/vpn/watch/champions-league-quarter-final-second-leg-match-2-2026-04-22
LOCATION:https://endorso.com/vpn/watch/champions-league-quarter-final-second-leg-match-2-2026-04-22
END:VEVENT
END:VCALENDAR