BEGIN:VCALENDAR
VERSION:2.0
PRODID:-//Endorso//Watch Free Events//EN
CALSCALE:GREGORIAN
METHOD:PUBLISH
BEGIN:VEVENT
UID:champions-league-quarter-final-second-leg-match-1-2026-04-21@endorso.com
DTSTAMP:20260421T192432Z
DTSTART:20260421T190000Z
DTEND:20260421T210000Z
SUMMARY:UEFA Champions League Quarter-Final Second Leg — Match 1 (Watch Free with VPN)
DESCRIPTION:The elite of European football battle for a spot in the semi-finals. High-stakes knockout football featuring the world's top stars.\\n\\nFree on ORF (Austria).\\n\\nFull guide: https://endorso.com/vpn/watch/champions-league-quarter-final-second-leg-match-1-2026-04-21
URL:https://endorso.com/vpn/watch/champions-league-quarter-final-second-leg-match-1-2026-04-21
LOCATION:https://endorso.com/vpn/watch/champions-league-quarter-final-second-leg-match-1-2026-04-21
END:VEVENT
END:VCALENDAR