BEGIN:VCALENDAR
VERSION:2.0
PRODID:-//Endorso//Watch Free Events//EN
CALSCALE:GREGORIAN
METHOD:PUBLISH
BEGIN:VEVENT
UID:bundesliga-matchday-32-2026-05-02-2026-05-03@endorso.com
DTSTAMP:20260420T111947Z
DTSTART:20260502T133000Z
DTEND:20260502T153000Z
SUMMARY:Bundesliga - Matchday 32 (Watch Free with VPN)
DESCRIPTION:Exciting Bundesliga action as teams battle for Champions League qualification and survival. Expect intense battles throughout the weekend.\\n\\nFree on ZDF (Germany).\\n\\nFull guide: https://endorso.com/vpn/watch/bundesliga-matchday-32-2026-05-02-2026-05-03
URL:https://endorso.com/vpn/watch/bundesliga-matchday-32-2026-05-02-2026-05-03
LOCATION:https://endorso.com/vpn/watch/bundesliga-matchday-32-2026-05-02-2026-05-03
END:VEVENT
END:VCALENDAR