BEGIN:VCALENDAR
VERSION:2.0
PRODID:-//Endorso//Watch Free Events//EN
CALSCALE:GREGORIAN
METHOD:PUBLISH
BEGIN:VEVENT
UID:bundesliga-matchday-31-2026-04-25-2026-04-26@endorso.com
DTSTAMP:20260420T111947Z
DTSTART:20260425T133000Z
DTEND:20260425T153000Z
SUMMARY:Bundesliga - Matchday 31 (Watch Free with VPN)
DESCRIPTION:Exciting Bundesliga action as teams vie for Champions League qualification and survival. Expect intense battles throughout the weekend.\\n\\nFree on ZDF (Germany).\\n\\nFull guide: https://endorso.com/vpn/watch/bundesliga-matchday-31-2026-04-25-2026-04-26
URL:https://endorso.com/vpn/watch/bundesliga-matchday-31-2026-04-25-2026-04-26
LOCATION:https://endorso.com/vpn/watch/bundesliga-matchday-31-2026-04-25-2026-04-26
END:VEVENT
END:VCALENDAR